BEGIN:VCALENDAR
VERSION:2.0
PRODID:-//Bauernkrieg im Hegau - ECPv6.15.20//NONSGML v1.0//EN
CALSCALE:GREGORIAN
METHOD:PUBLISH
X-ORIGINAL-URL:https://bauernkrieg-im-hegau.de
X-WR-CALDESC:Veranstaltungen für Bauernkrieg im Hegau
REFRESH-INTERVAL;VALUE=DURATION:PT1H
X-Robots-Tag:noindex
X-PUBLISHED-TTL:PT1H
BEGIN:VTIMEZONE
TZID:Europe/Berlin
BEGIN:DAYLIGHT
TZOFFSETFROM:+0100
TZOFFSETTO:+0200
TZNAME:CEST
DTSTART:20230326T010000
END:DAYLIGHT
BEGIN:STANDARD
TZOFFSETFROM:+0200
TZOFFSETTO:+0100
TZNAME:CET
DTSTART:20231029T010000
END:STANDARD
BEGIN:DAYLIGHT
TZOFFSETFROM:+0100
TZOFFSETTO:+0200
TZNAME:CEST
DTSTART:20240331T010000
END:DAYLIGHT
BEGIN:STANDARD
TZOFFSETFROM:+0200
TZOFFSETTO:+0100
TZNAME:CET
DTSTART:20241027T010000
END:STANDARD
BEGIN:DAYLIGHT
TZOFFSETFROM:+0100
TZOFFSETTO:+0200
TZNAME:CEST
DTSTART:20250330T010000
END:DAYLIGHT
BEGIN:STANDARD
TZOFFSETFROM:+0200
TZOFFSETTO:+0100
TZNAME:CET
DTSTART:20251026T010000
END:STANDARD
BEGIN:DAYLIGHT
TZOFFSETFROM:+0100
TZOFFSETTO:+0200
TZNAME:CEST
DTSTART:20260329T010000
END:DAYLIGHT
BEGIN:STANDARD
TZOFFSETFROM:+0200
TZOFFSETTO:+0100
TZNAME:CET
DTSTART:20261025T010000
END:STANDARD
END:VTIMEZONE
BEGIN:VTIMEZONE
TZID:Atlantic/Azores
BEGIN:DAYLIGHT
TZOFFSETFROM:-0100
TZOFFSETTO:+0000
TZNAME:+00
DTSTART:20230326T010000
END:DAYLIGHT
BEGIN:STANDARD
TZOFFSETFROM:+0000
TZOFFSETTO:-0100
TZNAME:-01
DTSTART:20231029T010000
END:STANDARD
BEGIN:DAYLIGHT
TZOFFSETFROM:-0100
TZOFFSETTO:+0000
TZNAME:+00
DTSTART:20240331T010000
END:DAYLIGHT
BEGIN:STANDARD
TZOFFSETFROM:+0000
TZOFFSETTO:-0100
TZNAME:-01
DTSTART:20241027T010000
END:STANDARD
BEGIN:DAYLIGHT
TZOFFSETFROM:-0100
TZOFFSETTO:+0000
TZNAME:+00
DTSTART:20250330T010000
END:DAYLIGHT
BEGIN:STANDARD
TZOFFSETFROM:+0000
TZOFFSETTO:-0100
TZNAME:-01
DTSTART:20251026T010000
END:STANDARD
END:VTIMEZONE
BEGIN:VEVENT
DTSTART;TZID=Europe/Berlin:20250725T170000
DTEND;TZID=Europe/Berlin:20250725T190000
DTSTAMP:20260420T104231
CREATED:20250722T081620Z
LAST-MODIFIED:20250722T091620Z
UID:2975-1753462800-1753470000@bauernkrieg-im-hegau.de
SUMMARY:Stadtführung durch Aach
DESCRIPTION:„… und wäre Aach da nicht dabei“\nDie stolzen Aacher zählen ihre Stadt zu den schönsten der Welt. Wolfgang Kramer hat sich in letzter Zeit mehrfach mit der Aacher Geschichte beschäftigt und weist bei einem zweistündigen Rundgang auf viele Facetten der Stadtgeschichte hin\, besucht werden u.a. das Rathaus und die Stadtkirche. \nIn Zusammenarbeit mit dem Hegau-Geschichtsverein. \nAnmeldung unter 07731/85-239 beim Hegau-Geschichtsverein.\nWolfgang Kramer\, Geschichtsverein Engen \nBitte beachten Sie: Längere Fußwege mit steilen Anstiegen.
URL:https://bauernkrieg-im-hegau.de/event/stadtfuehrung-durch-aach/
LOCATION:Aach\, Parkplatz an der Aachquelle\, Aach
ORGANIZER;CN="Stadt Aach":MAILTO:gemeinde@aach.de
END:VEVENT
BEGIN:VEVENT
DTSTART;VALUE=DATE:20250704
DTEND;VALUE=DATE:20250707
DTSTAMP:20260420T104231
CREATED:20240328T103014Z
LAST-MODIFIED:20250721T085412Z
UID:1725-1751587200-1751846399@bauernkrieg-im-hegau.de
SUMMARY:Altstadtfest 500 Jahre – Stadterstürmung
DESCRIPTION:Historisch gesehen jährte sich die Erstürmung der Altstadt im Jahre 2025 das fünfhunderte Mal. \nVon Freitag\, dem 4. Juli\, bis Sonntag\, dem 6. Juli 2025\, fand ein großes Altstadtfest statt\, das nicht nur Rückblick auf unsere Geschichte hielt\, sondern auch einen Ausblick auf die Gemeinschaft bot\, die wir heute sind.\nDas Fest wurde am Freitag mit einem Jubiläums-Festakt der Stadt Aach und am Samstag mit einer eindrucksvollen Nachstellung der Erstürmung unserer Stadt im Bauernkrieg im Jahre 1525 eröffnet. Während der drei Festtage band eine Vielzahl mittelalterlicher Aktivitäten Groß und Klein in den Bann. Von Gauklern und Markthändler über historischen Handwerkskünste bis hin zu Geschichtenerzählern – die Atmosphäre vergangener Zeiten bot unvergessliche Erlebnisse. \nIhr Bürgermeister\nManfred Ossola \n  \n  \n\nSponsoren unseres Altstadtfestes 2025\n  \n               \n\n  \n 
URL:https://bauernkrieg-im-hegau.de/event/altstadtfest-500-jahre-stadtersturmung/
LOCATION:Altstadt\, Aach
CATEGORIES:Aach
ATTACH;FMTTYPE=image/jpeg:https://bauernkrieg-im-hegau.de/wp-content/uploads/2025/07/KH1_2825.jpg
ORGANIZER;CN="Stadt Aach":MAILTO:gemeinde@aach.de
END:VEVENT
BEGIN:VEVENT
DTSTART;TZID=Europe/Berlin:20241019T200000
DTEND;TZID=Europe/Berlin:20241019T220000
DTSTAMP:20260420T104231
CREATED:20241014T165526Z
LAST-MODIFIED:20241014T165857Z
UID:2733-1729368000-1729375200@bauernkrieg-im-hegau.de
SUMMARY:Podiumsgespräch mit Dr. Clemens Regenbogen: „Leibherrschaft\, Organisation und Konflikte - Lebenswelten Hegauer Bauern im Spätmittelalter (ca. 1250-1524/25)“
DESCRIPTION:In der Zeit des Hilzinger Aufstandes war das Leben in den Hegau-Dörfern geprägt von Abgabenlast und Unfreiheit. Dennoch hatten die Menschen im deutschen Südwesten ihr Zusammenleben bemerkenswert gut organisiert: Arbeitsteilung\, klare Regeln\, genossenschaftsartige Gruppierungen und Wahlen bildeten ein tragfähiges Fundament zivilen Zusammenlebens. \n  \nDr. Clemens Regenbogen beschäftigt sich seit vielen Jahren mit der bäuerlichen Lebenswelt und wird nun erstmalig die Zeit des Hilzinger Aufstandes aus diesem Blickwinkel näher betrachten. \n\nWer waren die Aufständischen\, wie war Ihr Zusammenleben geprägt?\nWelche Berufe und gesellschaftliche Rollen hatten Bedeutung?\nWelchen Stellenwert hatten Dialog- und Streitkultur?\nUnd vor allem: Woher nahmen diese Menschen dieses ungeheure Selbstbewusstsein\, sich gegen geistliche und weltliche Herrschaft gleichermaßen zu erheben?\n\n  \nDr. Regenbogen wird im Podiumsgespräch mit Wolfgang Panzer\, dem Leiter des Kulturbüros\, einen Bogen spannen von den Grundlagen der bäuerlichen Lebenswelt bis zu den Anfängen des selbstbewussten Menschenbildes der Renaissance. So geschehen hier im Hegau 1524! \n  \nDer Vortrag ist Teil der Vortragsreihe „Perspektivwechsel“ zur 500-jährigen Erinnerung an den Aufstand der Hegau-Bauern zur Hilzinger Kirchweih von 1524. Die Reihe wird in Kooperation des Hegau-Geschichtsvereins mit dem Kulturbüro „500 Jahre Hilzinger Aufstand“ veranstaltet.  Im monatlichen Rhythmus werden bis einschließlich Januar 2025 Vorträge Themen rund um den Bauernkrieg im Hegau neu beleuchten. Der Eintritt ist frei\, Spenden für das Kulturprogramm sind willkommen. \n  \nDownload Flyer
URL:https://bauernkrieg-im-hegau.de/event/podiumsgespraech-mit-dr-clemens-regenbogen-leibherrschaft-organisation-und-konflikte-lebenswelten-hegauer-bauern-im-spaetmittelalter-ca-1250-1524-25/
LOCATION:Bürger- und Bauernmuseum\, Schlosspark Hilzingen\, Hauptstraße 36\, 78247 Hilzingen
CATEGORIES:Hilzingen
ATTACH;FMTTYPE=image/jpeg:https://bauernkrieg-im-hegau.de/wp-content/uploads/2024/10/Dr-Clemens-Regenbogen-scaled.jpg
END:VEVENT
BEGIN:VEVENT
DTSTART;VALUE=DATE:20241018
DTEND;VALUE=DATE:20241022
DTSTAMP:20260420T104231
CREATED:20240331T080759Z
LAST-MODIFIED:20240331T091414Z
UID:2443-1729209600-1729555199@bauernkrieg-im-hegau.de
SUMMARY:Hilzinger Kirchweih
DESCRIPTION:Die Hilzinger Kirchweih lädt ein zu einem unvergesslichen Fest im Herzen des Hegau! Tauchen Sie ein in die reiche Geschichte und erleben Sie die Traditionen\, die Generationen vereint haben.
URL:https://bauernkrieg-im-hegau.de/event/hilzinger-kirchweih/
CATEGORIES:Hilzingen
END:VEVENT
BEGIN:VEVENT
DTSTART;TZID=Europe/Berlin:20241006T140000
DTEND;TZID=Europe/Berlin:20241006T190000
DTSTAMP:20260420T104231
CREATED:20240331T080706Z
LAST-MODIFIED:20240919T183634Z
UID:2440-1728223200-1728241200@bauernkrieg-im-hegau.de
SUMMARY:Freiheitszug der Hegauer 1524
DESCRIPTION:
URL:https://bauernkrieg-im-hegau.de/event/riedheimer-anlass/
CATEGORIES:Hilzingen
ATTACH;FMTTYPE=image/jpeg:https://bauernkrieg-im-hegau.de/wp-content/uploads/2024/03/Plakat_A4_Protestzug-klein-1.jpg
END:VEVENT
BEGIN:VEVENT
DTSTART;TZID=Europe/Berlin:20241002T190000
DTEND;TZID=Europe/Berlin:20241002T220000
DTSTAMP:20260420T104231
CREATED:20240919T184322Z
LAST-MODIFIED:20240919T184730Z
UID:2730-1727895600-1727906400@bauernkrieg-im-hegau.de
SUMMARY:Buchtaufe "Der Bauernkrieg im Hegau 1524/25 " - Dr. Casimir Bumillers
DESCRIPTION:
URL:https://bauernkrieg-im-hegau.de/event/buchtaufe-der-bauernkrieg-im-hegau-1524-25-dr-casimir-bumillers/
CATEGORIES:Hilzingen
ATTACH;FMTTYPE=image/jpeg:https://bauernkrieg-im-hegau.de/wp-content/uploads/2024/03/Plakat_A4_Buchtaufe-klein-1.jpg
END:VEVENT
BEGIN:VEVENT
DTSTART;TZID=Europe/Berlin:20240929T160000
DTEND;TZID=Europe/Berlin:20240929T160000
DTSTAMP:20260420T104231
CREATED:20240617T190638Z
LAST-MODIFIED:20240617T190750Z
UID:2697-1727625600-1727625600@bauernkrieg-im-hegau.de
SUMMARY:Dr. Roland Kessinger: „Hilzingen und seine Burgen“
DESCRIPTION:
URL:https://bauernkrieg-im-hegau.de/event/dr-roland-kessinger-hilzingen-und-seine-burgen/
LOCATION:Bürger- und Bauernmuseum\, Schlosspark Hilzingen\, Hauptstraße 36\, 78247 Hilzingen
CATEGORIES:Hilzingen
END:VEVENT
BEGIN:VEVENT
DTSTART;TZID=Europe/Berlin:20240922T100000
DTEND;TZID=Europe/Berlin:20240922T160000
DTSTAMP:20260420T104231
CREATED:20240328T102239Z
LAST-MODIFIED:20240331T083701Z
UID:1721-1726999200-1727020800@bauernkrieg-im-hegau.de
SUMMARY:Höhlentag 2.0
DESCRIPTION:Am 22 .September findet auf dem Parkplatz der Aachquelle nach der Premiere im Jahre 2023 zum zweiten Mal ein Höhlentag der Freunde der Aachhöhle e.V. statt. \nHierbei besteht die Möglichkeit mit Helm und Schutzanzug eine Höhle zu begehen. Unter Anleitung erfahrener Höhlenforscher wird in Gruppen in die Höhle geführt. \nEs werden im Kellergewölbe Filme über die Höhlenforschung gezeigt. Die Seiltechnik (das auf- und absteigen an einem Seil) wird demonstriert und kann auch selbst ausprobiert werden. \nTaucher sind mit ihrem Equipment vor Ort und berichten vom Tauchen in der Aachquelle.\nIn dem ausgegrabenen Sediment können\, mit Wasser gewaschen\, schöne Versteinerungen gefunden werden (Schlämmen)\nEs werden für das leibliche Wohl und zur Stärkung Getränke und Bratwurst angeboten. \nWir freuen uns auf Ihren Besuch!
URL:https://bauernkrieg-im-hegau.de/event/hohlentag-2-0-2/
LOCATION:Parkplatz an der Aachquelle
CATEGORIES:Aach
ATTACH;FMTTYPE=image/jpeg:https://bauernkrieg-im-hegau.de/wp-content/uploads/2024/03/Freunde-der-Aachhohle-Logo-600x368-1.jpg
END:VEVENT
BEGIN:VEVENT
DTSTART;TZID=Europe/Berlin:20240913T190000
DTEND;TZID=Europe/Berlin:20240921T190000
DTSTAMP:20260420T104231
CREATED:20240331T080008Z
LAST-MODIFIED:20240331T090459Z
UID:2423-1726254000-1726945200@bauernkrieg-im-hegau.de
SUMMARY:„Passion der Freiheit“ - Theateraufführungen
DESCRIPTION:„Passion der Freiheit“ Ein Stück zum Hilzinger Aufstand. \nSechs Theateraufführungen des Theaters „GEMS“ in der Remise des Museums im Schlosspark Hilzingen \n13.9.\, 19:00 -21:00 Uhr Premiere\n14.9.\, 19:00 – 21:00 Uhr Abendvorstellung\n15.9.\, 11:00 – 13:00 Uhr Mattinee\n18.9.\, 19:00 – 21:00 Uhr Schulvorführung mit Einführung\n19.9.\, 19:00 – 21:00 Uhr Abendvorstellung\n20.9.\, 19:00 – 21:00 Uhr Abendvorstellung\n21.9.\, 19:00 – 21:00 Uhr Schlussvorstellung
URL:https://bauernkrieg-im-hegau.de/event/passion-der-freiheit/
LOCATION:Bürger- und Bauernmuseum\, Schlosspark Hilzingen\, Hauptstraße 36\, 78247 Hilzingen
CATEGORIES:Hilzingen
ATTACH;FMTTYPE=image/jpeg:https://bauernkrieg-im-hegau.de/wp-content/uploads/2024/03/Museums-im-Schlosspark-Hilzingen.jpg
END:VEVENT
BEGIN:VEVENT
DTSTART;TZID=Europe/Berlin:20240902T180000
DTEND;TZID=Europe/Berlin:20240902T203000
DTSTAMP:20260420T104231
CREATED:20240717T101544Z
LAST-MODIFIED:20240717T101544Z
UID:2700-1725300000-1725309000@bauernkrieg-im-hegau.de
SUMMARY:Führung durch die Ausstellung zum „Bauernkrieg im Hegau 1524/25“
DESCRIPTION:Aacher Altstadtfest 2025 – Bauernkrieg 1525\nDie Stadt Aach lädt ein:\nFührung durch die Ausstellung zum „Bauernkrieg im Hegau 1524/25“\nIm Juli 2025 findet unser Aacher Altstadtfest statt. Gleichzeitig jährt sich die Stadterstürmung in Aach zum 500. Male. \nAls Vorbereitung auf diese besonderen Ereignisse sind wir in Hilzingen ins Bürger- und Bauernmuseum eingeladen und werden vom Leiter des Kulturbüros\, Herrn Wolfgang Panzer\, durch die aktuelle Ausstellung zum Bauernkrieg 1524/25 geführt.\nWer waren Anführer und Vordenker? Die Herren und Krieger? Was prägte die Zeit dieses Umbruchs? Die Sonderausstellung steht unter dem Titel „Aufbruch bis zum Ende“ und gibt uns Antworten auf diese spannenden Fragen.\nDie Stadt Aach freut sich auf eine zahlreiche Teilnahme.\nAuf Wunsch anschließende Einkehr nicht ausgeschlossen. \nTreffpunkt: hinter dem Rathaus zur Bildung von Fahrgemeinschaften\nKosten entstehen keine. Der freie Eintritt erfolgt auf Spendenbasis.
URL:https://bauernkrieg-im-hegau.de/event/fuehrung-durch-die-ausstellung-zum-bauernkrieg-im-hegau-1524-25/
LOCATION:Bürger- und Bauernmuseum\, Schlosspark Hilzingen\, Hauptstraße 36\, 78247 Hilzingen
ORGANIZER;CN="Stadt Aach":MAILTO:gemeinde@aach.de
END:VEVENT
BEGIN:VEVENT
DTSTART;VALUE=DATE:20240809
DTEND;VALUE=DATE:20240812
DTSTAMP:20260420T104231
CREATED:20240323T142529Z
LAST-MODIFIED:20240328T101812Z
UID:1393-1723161600-1723420799@bauernkrieg-im-hegau.de
SUMMARY:Das Große Treffen
DESCRIPTION:Ein Fantasy Festival in Deutschland\nMittelalter\, Gothic\, Steampunk\, Endzeit\, Fantasy & LARP\nEines der größten Fantasy Festivals in Deutschland \n  \nWillkommen im Land von Whenuatonga\nDas Grosse Treffen\, kurz DGT\, ist eines der größten Fantasy Festivals in Deutschland.\nUnser Programm ist vielfältig und atemberaubend. Neben hochkarätigen Live-Bands\, spektakulären Show-Einlagen\, Wettkämpfen und natürlich Drachen\, findet Ihr einen Marktplatz (Mittelaltermarkt\, Steampunk Händler\, Fantasy Händler\,…) aus hunderten Händlern\, die ihre schmackhaften Waren und ihr Kunsthandwerk anbieten. Für alle ist etwas dabei\, wenn sich die Tore zu Whenuatonga öffnen. Hier findest Du das öffentliche Programm für die drei Veranstaltungstage des 09.\,10. Und 11. August 2024. Das Programm wird im Laufe der kommenden Monate noch erweitert.\nDas Grosse Treffen findet in Aach am Bodensee\, im Hegau\, in Süddeutschland statt. \nÖffnungszeiten \nFreitag 09.08.: 12:00 Uhr – 24:00 Uhr\nSamstag 10.08.: 10:00 Uhr – 24:00 Uhr\nSonntag 11.08.: 10:00 Uhr – 20:00 Uhr \nAlle Tickets bis auf das Campsite Ticket sind natürlich auch an der Tageskasse erhältlich\nDie Preise für die Tageskasse findet Ihr hier: Preise Tageskasse \n 
URL:https://bauernkrieg-im-hegau.de/event/hohlentag-2-0/
LOCATION:Natursportpark Hirtenhof\, Singener Str. 22\, Aach\, 78267
CATEGORIES:Aach
ATTACH;FMTTYPE=image/png:https://bauernkrieg-im-hegau.de/wp-content/uploads/2024/03/event-aach.png
END:VEVENT
BEGIN:VEVENT
DTSTART;TZID=Europe/Berlin:20240718T190000
DTEND;TZID=Europe/Berlin:20240718T190000
DTSTAMP:20260420T104231
CREATED:20240617T185553Z
LAST-MODIFIED:20240617T190229Z
UID:2695-1721329200-1721329200@bauernkrieg-im-hegau.de
SUMMARY:Prof. Dr. Rainer Luick: "Das historische\, gesellschaftliche und sozio-ökonomische Umfeld der Bauernaufstände von 1524 / 1525"
DESCRIPTION:
URL:https://bauernkrieg-im-hegau.de/event/prof-dr-rainer-luick-das-historische-gesellschaftliche-und-sozio-oekonomische-umfeld-der-bauernaufstaende-von-1524-1525/
LOCATION:Bürger- und Bauernmuseum\, Schlosspark Hilzingen\, Hauptstraße 36\, 78247 Hilzingen
CATEGORIES:Hilzingen
END:VEVENT
BEGIN:VEVENT
DTSTART;VALUE=DATE:20240718
DTEND;VALUE=DATE:20240719
DTSTAMP:20260420T104231
CREATED:20240331T075537Z
LAST-MODIFIED:20240331T095851Z
UID:2421-1721260800-1721347199@bauernkrieg-im-hegau.de
SUMMARY:Vortragsreihe mit dem Hegau Geschichtsverein
DESCRIPTION:„Perspektivwechsel“- eine gemeinsame Vortragsreihe zum 500. Jahrestag des Aufstandes zur\nHilzinger Kirchweih \nKooperation des Hegau Geschichtsvereines mit dem Kulturbüro „500 Jahre Hilzinger Aufstand“ Die „Historia“ als möglichst exakte\, Fakten- und Quellen-basierte Wissenschaft steht häufig dem Bedürfnis der Zuhörer nach einer menschlichen\, nachvollziehbaren und pointierten „Geschichte“ gegenüber. Dabei hat beides seine Berechtigung und das eine wäre nicht ohne das andere entstanden. Wie auch beide als literarische Gattung in der Entwicklung vom Mythos zum Logos ihr Feld dauerhaft besetzen. Dass die Entwicklung durchaus auch umgekehrt laufen kann\, sehen wir in der ungebrochenen Beliebtheit historisierender Romane und Filme aus jüngster Zeit\, die die Grenze von Geschichte und Fantasie verschmelzen. Sei es in der Serie „Game of Thrones“ oder in den Arthus-Romanen von Bernhard Cornwell. \nÄhnlich verhält es sich mit dem Gedenken an den Aufstand zur Hilzinger Kirchweih. Das Potential\, die Menschen zu inspirieren und zu begeistern ist da im Übermaß. Sei es der Ungehorsam\, der Mut gegen eine ganze Weltordnung auf zu begehren\, sei es die Besonnenheit der Menschen auch unter höchstem Risiko für Leib und Leben. \nDiese Begeisterung benötigt und verdient eine verlässliche wissenschaftliche Begleitung. Daher wird zum Gedenkjahr zum 500. Jahrestag des Aufstandes zur Hilzinger Kirchweih der Hegau Geschichtsverein gemeinsam mit dem Kulturbüro eine Reihe von Vorträgen für die Menschen im Hegau veranstalten. Nach den gewohnt hohen Standards des HGV sollen wesentliche Aspekte des Aufstandes beleuchtet werden. \nUnd das aus wechselnder Perspektive:\nNatürlich aus der Sicht des Bauern\, aus der Sicht der Nachbarn in der nahen Schweiz\, aus der Sicht der kleinen Ritter und Adligen\, aus der Sicht der großen Grundherren\, aus der Sicht der Kirche\, aus der Sicht des großen Kaisers Karls des Fünften und so weiter. Die Vorträge sollen in wechselnden Perspektiven das Thema umkreisen\, wissend\, dass es die eine Wahrheit meistens nicht gibt\, wohl aber häufig viele Unwahrheiten\, geschaffen\, um den Blick auf das wesentliche zu verstellen. Und so sollen die Vorträge sich zwar streng an Fakten und Quellen halten\, aber für die Menschen\, die von Themen und Persönlichkeiten bewegt werden\, dennoch verstanden werden. Und damit einen Beitrag zum geistigen und kulturellen Leben der Menschen in Hilzingen und im ganzen Hegau leisten.
URL:https://bauernkrieg-im-hegau.de/event/vortragsreihe-mit-dem-hegau-geschichtsverein/
CATEGORIES:Hilzingen
ATTACH;FMTTYPE=image/png:https://bauernkrieg-im-hegau.de/wp-content/uploads/2024/03/hegau-geschichtsverein-logo-full.png
END:VEVENT
BEGIN:VEVENT
DTSTART;VALUE=DATE:20240623
DTEND;VALUE=DATE:20240624
DTSTAMP:20260420T104231
CREATED:20240331T075345Z
LAST-MODIFIED:20240331T095926Z
UID:2417-1719100800-1719187199@bauernkrieg-im-hegau.de
SUMMARY:Öffnungszeiten Bauernkriegsmuseum
DESCRIPTION:Das Bauernkriegsmuseum ist jetzt jeden Sonntag von 14:00 bis 17:00 Uhr für Besucher geöffnet. \nQualifizierte Führungen nach Voranmeldung oder\, wenn es passt auch spontan\, werden angeboten. Dieses Angebot richtet sich auch an Schulen und Vereine.
URL:https://bauernkrieg-im-hegau.de/event/das-bauernkriegsmuseum-offnungszeiten/
LOCATION:Bauernkriegsmuseum
CATEGORIES:Hilzingen
ATTACH;FMTTYPE=image/jpeg:https://bauernkrieg-im-hegau.de/wp-content/uploads/2024/03/Bauernkriegsmuseum2.jpg
END:VEVENT
BEGIN:VEVENT
DTSTART;TZID=Europe/Berlin:20240620T190000
DTEND;TZID=Europe/Berlin:20240620T190000
DTSTAMP:20260420T104231
CREATED:20240331T074839Z
LAST-MODIFIED:20240331T084353Z
UID:2415-1718910000-1718910000@bauernkrieg-im-hegau.de
SUMMARY:Vortrag von Dr. Casimir Bumiller und Eröffnung der Sonderausstellung ``Vom Aufbruch bis zum Ende``
DESCRIPTION:In Hilzingen erhoben sich vor 500 Jahren\, am 2. Oktober 1524\, rund 800 Hegauer Bauern gegen ihre Herren. In seinem Vortrag „Der Bauernkrieg in Hilzingen\, im Hegau und die Folgen“ wird der Historiker Dr. Casimir Bumiller die Ereignisse im Hegau anschaulich darstellen. Er hat 1993 die hervorragende Dauerausstellung zum südwestdeutschen Bauernkrieg\, die Sie in der Museumsremise sehen können\, konzipiert. \nDie Sonderausstellung ist als Gemeinschaftsprojekt von elf Museen/ Gedenkstätten in den Bundesländern Baden-Württemberg\, Bayern\, Rheinland-Pfalz\, Sachsen\, Sachsen-Anhalt und Thüringen in der Arbeitsgemeinschaft deutscher Bauernkriegsmuseen (Arge) entstanden. An jenen für den Bauernkrieg geschichtsträchtigen Orten befinden sich Museen\, die sich dem Aufstandsgeschehen und den Entscheidungsschlachten der Region widmen. Jeder Erinnerungsort ist mit zwei\, zum Teil sehr gegensätzlichen Persönlichkeiten vertreten. So kann die große regionale wie menschliche Spannweite des Themas aufgezeigt werden.
URL:https://bauernkrieg-im-hegau.de/event/vortrag-von-dr-casimir-bumiller-und-eroffnung-der-sonderausstellung-vom-aufbruch-bis-zum-ende/
LOCATION:Bürger- und Bauernmuseum\, Schlosspark Hilzingen\, Hauptstraße 36\, 78247 Hilzingen
CATEGORIES:Hilzingen
ATTACH;FMTTYPE=image/jpeg:https://bauernkrieg-im-hegau.de/wp-content/uploads/2024/03/c_bumiller.jpg
END:VEVENT
BEGIN:VEVENT
DTSTART;TZID=Europe/Berlin:20240620T170000
DTEND;TZID=Europe/Berlin:20240620T170000
DTSTAMP:20260420T104231
CREATED:20240331T074526Z
LAST-MODIFIED:20240422T070338Z
UID:2413-1718902800-1718902800@bauernkrieg-im-hegau.de
SUMMARY:Spielmodell der Hilzinger Kirchweih
DESCRIPTION:Mit einem professionellen Modellbauer wird ein Spielmodell der „Hilzinger Kirchweih“ von 1524 erstellt. Auf einer ca 2 x 2 Meter großen Landschaftsplatte wird das Fest im Dorf mit der Versammlung der Bauern durch Modelle und Playmobil-Figuren dargestellt. Die  Knechte der Ritter versuchen\, den Bauern den Zugang zum Fest zu verwehren\, aber die Reiter des Herzogs Ulrich halten die Wege für die Bauern frei. Die Bauern stehen in Gruppen und diskutieren\, aber sie feiern auch mit ihren Familien. Einige empören und bewaffnen sich. Ein Schmied fertigt Stangenwaffen aus Arbeitsgeräten. Der Zuzug aus vielen Gemeinden des Hegaus wird mit den ankommenden Menschen dargestellt. Die Orte Weiterdingen und Riedheim\, wohin die Bauern weiterziehen werden\, sind an den Rändern der Landschaft mit abgebildet. \n 
URL:https://bauernkrieg-im-hegau.de/event/spielmodell-der-hilzinger-kirchweih/
CATEGORIES:Hilzingen
ATTACH;FMTTYPE=image/jpeg:https://bauernkrieg-im-hegau.de/wp-content/uploads/2024/03/Ankuendigung-Playmobil-Spielmodell-Unterzeichung-des-Riedheimer-Vertrags-scaled.jpg
END:VEVENT
BEGIN:VEVENT
DTSTART;TZID=Europe/Berlin:20240620T170000
DTEND;TZID=Europe/Berlin:20240620T170000
DTSTAMP:20260420T104231
CREATED:20240331T073033Z
LAST-MODIFIED:20240617T185236Z
UID:2398-1718902800-1718902800@bauernkrieg-im-hegau.de
SUMMARY:Eröffnung der Wanderausstellung: "Aufbruch bis zum Ende"
DESCRIPTION:Eröffnung der Wanderausstellung der Arbeitsgemeinschaft Deutscher Bauernkriegsmuseen: „Aufbruch bis zum Ende“ \nEine Ausstellung zeigt 22 Persönlichkeiten aus der Zeit des Bauernkrieges \nWer waren die Menschen\, die diese Zeit des Aufbruches um 1525 prägten? Wer waren die Anführer\, die Ideengeber\, die Vordenker? Die Herren\, die Krieger?Die Arbeitsgemeinschaft Deutscher Bauernkriegsmuseen hat eine Wanderausstellung entwickelt\, die Antworten auf all diese Fragen gibt. An den wichtigen historischen Orten des Bauernkrieges wird sie in den nächsten eineinhalb Jahren gezeigt. \nJetzt können wir sie  für drei Monate in Hilzingen präsentieren. Ritter und Bauern\, Frauen und Männer\, Prediger und Wirtsleute geben sich hier ein Stelldichein. Sie zeigen ihr Gesicht\, erzählen dem Besucher Ihre Geschichte. \nGeöffnet jeden Sonntag 14:00-17:00 Uhr\, Pferdestall in der Remise des Museums. \n  \n 
URL:https://bauernkrieg-im-hegau.de/event/wanderausstellung-aufbruch-bis-zum-ende/
LOCATION:Bürger- und Bauernmuseum\, Schlosspark Hilzingen\, Hauptstraße 36\, 78247 Hilzingen
CATEGORIES:Hilzingen
ATTACH;FMTTYPE=image/jpeg:https://bauernkrieg-im-hegau.de/wp-content/uploads/2024/03/Im-historischen-Pferdestall-der-Remise-des-Burger-und-Bauernmuseums-Hilzingen.jpg
END:VEVENT
BEGIN:VEVENT
DTSTART;TZID=Europe/Berlin:20240531T160000
DTEND;TZID=Europe/Berlin:20240602T170000
DTSTAMP:20260420T104231
CREATED:20240515T075141Z
LAST-MODIFIED:20240515T082814Z
UID:2677-1717171200-1717347600@bauernkrieg-im-hegau.de
SUMMARY:Wo alles begann... 500 Jahre Bauernkrieg
DESCRIPTION:Als sich die Bauern im deutschen Südwesten 1524 zusammenrotteten\, um für eine gerechtere Welt zu kämpfen\, war ihre Situation unerträglich. Sie trugen die Last des Staates\, finanzierten mit den Abgaben das Leben von Adel und Geistlichen\, waren aber politisch vollkommen bedeutungslos. Durch Unwetter und ausbleibende Ernte verschärfte sich die Lage der Bauern nochmals. Zu ersten Unruhen kam es im Raum Waldshut und Stühlingen. Bauernhaufen organisierten sich und zogen durch das Wutachtal und den Schwarzwald sowie die Baar und scharten immer mehr Anhänger um sich. Auch Bürger aus dem Dorf Grüningen waren dabei\, als im November 1524 die in 16 Artikeln zusammengefasste Beschwerde dem Villinger Rat übergeben wurde. Die daraus entstandenen Aufstände weiteten sich auf den gesamten süddeutschen Raum bis nach Bayern und Thüringen aus. Die Forderung der Bauern nach mehr Rechten und Aufhebung der Leibeigenschaft wurde brutal niedergeschlagen.\n\n  \nVon Freitag\, 31. Mai bis Sonntag\, 2. Juni\, erinnert der Historische Verein d‘Buure 1524 mit einem Mittelaltermarkt dieses bedeutenden historischen Ereignisses. Bauern und Landsknechte werden das Lager bevölkern. Musikanten\, Gaukler und Tänzer treten auf. Korbflechter\, Seiler und Kettenhemdmacher zeigen traditionelles Handwerk. Vom Lagergottesdienst bis zur nächtlichen Feuershow gibt es für große und kleine Besucher jede Menge zu entdecken und zu bestaunen. Fürs leibliche Wohl sorgen die Grüninger Vereine mit feinsten Speisen aus Kessel und vom heißen Eisen. Den Durst können die erwachsenen Besucher mit Bier\, Wein und Met stillen.
URL:https://bauernkrieg-im-hegau.de/event/wo-alles-begann-500-jahre-bauernkrieg/
LOCATION:Donaueschingen
ATTACH;FMTTYPE=image/jpeg:https://bauernkrieg-im-hegau.de/wp-content/uploads/2024/05/500-Jahre-Bauernkrieg.jpg
END:VEVENT
BEGIN:VEVENT
DTSTART;TZID=Europe/Berlin:20240426T143000
DTEND;TZID=Europe/Berlin:20240426T173000
DTSTAMP:20260420T104231
CREATED:20240419T083547Z
LAST-MODIFIED:20240419T141954Z
UID:2602-1714141800-1714152600@bauernkrieg-im-hegau.de
SUMMARY:Kulturbüro in Hilzingen geöffnet
DESCRIPTION:Wolfgang Panzer freut sich auf Ihren Besuch.
URL:https://bauernkrieg-im-hegau.de/event/kulturbuero-in-hilzingen-geoeffnet/
LOCATION:Bürger- und Bauernmuseum\, Schlosspark Hilzingen\, Hauptstraße 36\, 78247 Hilzingen
CATEGORIES:Hilzingen
ATTACH;FMTTYPE=image/jpeg:https://bauernkrieg-im-hegau.de/wp-content/uploads/2024/03/Bauernkriegsmuseum.jpg
END:VEVENT
BEGIN:VEVENT
DTSTART;TZID=Atlantic/Azores:20240412T190000
DTEND;TZID=Atlantic/Azores:20240412T190000
DTSTAMP:20260420T104231
CREATED:20240323T143436Z
LAST-MODIFIED:20240331T085725Z
UID:1397-1712948400-1712948400@bauernkrieg-im-hegau.de
SUMMARY:Erzählzeit in Aach
DESCRIPTION:Die Autorin Kathrin Röggla liest aus ihrem Roman „Laufendes Verfahren“. \nhttp://www.erzaehlzeit.com/programm \n  \nDer NSU-Prozess gegen fünf Mitglieder einer rechtsextremen Terrorgruppe von 2013 bis 2018 in München erschütterte Deutschland. Was genau aber passiert bei einem Prozess\, um dessen Inhalt so heftig gestritten wird? Wer beobachtet die dritte Gewalt bei ihrer Arbeit\, wenn es um rassistischen Terror und den Angriff auf die Demokratie geht? \nKathrin Röggla erzählt nicht in der üblichen Vergangenheitsform von einem abgeschlossenen Fall: Sie nimmt die bewusst unprofessionelle Perspektive eines\n«Wir» ein\, das oben auf den Zuschauerrängen sitzt. Doch wer sind «wir» eigentlich\, wenn jedes «Wir» durch den Prozess in Frage gestellt wird? Mit großer Genauigkeit\, erzählt der Roman von den Rollen und Spielregeln des laufenden Verfahrens. \nKathrin Röggla\, geboren in Salzburg\, arbeitet als Prosa- und Theaterautorin und erhielt u.a. den Arthur-Schnitzler-Preis (2012) und den Wortmeldungen-Literaturpreis (2020). Für «Laufendes Verfahren» erhielt sie den Heinrich-Böll-Preis für Literatur 2023.
URL:https://bauernkrieg-im-hegau.de/event/weinfest/
LOCATION:Katholisches Gemeindezentrum\, Stadtstraße 44\, Aach
CATEGORIES:Aach
ATTACH;FMTTYPE=image/jpeg:https://bauernkrieg-im-hegau.de/wp-content/uploads/2024/03/Logo_Erzahlzeit_2024.jpg
ORGANIZER;CN="Stadt Aach":MAILTO:gemeinde@aach.de
END:VEVENT
BEGIN:VEVENT
DTSTART;TZID=Europe/Berlin:20240407T140000
DTEND;TZID=Europe/Berlin:20240407T190000
DTSTAMP:20260420T104231
CREATED:20240331T071034Z
LAST-MODIFIED:20240331T085850Z
UID:2388-1712498400-1712516400@bauernkrieg-im-hegau.de
SUMMARY:Saisonbeginn Bauernkriegsmuseum
DESCRIPTION:Saisonbeginn: das Bauernkriegsmuseum öffnet jeden ersten Sonntag im Monat
URL:https://bauernkrieg-im-hegau.de/event/das-bauernkriegsmuseum/
LOCATION:Bürger- und Bauernmuseum\, Schlosspark Hilzingen\, Hauptstraße 36\, 78247 Hilzingen
CATEGORIES:Hilzingen
ATTACH;FMTTYPE=image/jpeg:https://bauernkrieg-im-hegau.de/wp-content/uploads/2024/03/Bauernkriegsmuseum.jpg
END:VEVENT
BEGIN:VEVENT
DTSTART;VALUE=DATE:20240331
DTEND;VALUE=DATE:20240401
DTSTAMP:20260420T104231
CREATED:20240331T065235Z
LAST-MODIFIED:20240331T081256Z
UID:2374-1711843200-1711929599@bauernkrieg-im-hegau.de
SUMMARY:Präsentation der Webseite
DESCRIPTION:Unser Start zu \n„500 Jahre Hilzinger Aufstand“\nEin Aktions- und Gedenkjahr für alle Hilzinger! \n  \nPräsentation der Webseite zum Thema „Bauernkrieg im Hegau“
URL:https://bauernkrieg-im-hegau.de/event/prasentation-der-webseite/
CATEGORIES:Hilzingen
ATTACH;FMTTYPE=image/png:https://bauernkrieg-im-hegau.de/wp-content/uploads/2024/03/logo-main-crop.png
END:VEVENT
END:VCALENDAR